BEGIN:VCALENDAR
VERSION:2.0
PRODID:-//Discover Life in America - ECPv6.15.20//NONSGML v1.0//EN
CALSCALE:GREGORIAN
METHOD:PUBLISH
X-WR-CALNAME:Discover Life in America
X-ORIGINAL-URL:https://dlia.org
X-WR-CALDESC:Events for Discover Life in America
REFRESH-INTERVAL;VALUE=DURATION:PT1H
X-Robots-Tag:noindex
X-PUBLISHED-TTL:PT1H
BEGIN:VTIMEZONE
TZID:America/New_York
BEGIN:DAYLIGHT
TZOFFSETFROM:-0500
TZOFFSETTO:-0400
TZNAME:EDT
DTSTART:20220313T070000
END:DAYLIGHT
BEGIN:STANDARD
TZOFFSETFROM:-0400
TZOFFSETTO:-0500
TZNAME:EST
DTSTART:20221106T060000
END:STANDARD
BEGIN:DAYLIGHT
TZOFFSETFROM:-0500
TZOFFSETTO:-0400
TZNAME:EDT
DTSTART:20230312T070000
END:DAYLIGHT
BEGIN:STANDARD
TZOFFSETFROM:-0400
TZOFFSETTO:-0500
TZNAME:EST
DTSTART:20231105T060000
END:STANDARD
BEGIN:DAYLIGHT
TZOFFSETFROM:-0500
TZOFFSETTO:-0400
TZNAME:EDT
DTSTART:20240310T070000
END:DAYLIGHT
BEGIN:STANDARD
TZOFFSETFROM:-0400
TZOFFSETTO:-0500
TZNAME:EST
DTSTART:20241103T060000
END:STANDARD
END:VTIMEZONE
BEGIN:VEVENT
DTSTART;TZID=America/New_York:20231216T070000
DTEND;TZID=America/New_York:20231216T130000
DTSTAMP:20260420T210639
CREATED:20231116T160040Z
LAST-MODIFIED:20231121T212050Z
UID:7402-1702710000-1702731600@dlia.org
SUMMARY:Winter Birding Blitz
DESCRIPTION:Join us for a Winter Birding Blitz in Great Smoky Mountains National Park on Saturday\, December 16th from 7am to 1pm. This is a free and family friendly event! \n\n\n\nWe will be looking and listening for bird activity in Great Smoky Mountains National Park and documenting what we find! This is a great opportunity to do some community science and learn something new! \n\n\n\nWe will use the free iNaturalist and Merlin Bird ID apps to record our findings\, so it’s helpful to download the apps and create accounts\, prior to the event. \n\n\n\nFor more details and to register for free\, send an email to Jaimie Matzko at jaimie@dlia.org. \n\n\n\n\n\nMeet at the Sugarlands Visitor Center in GSMNP. See google maps link below:
URL:https://dlia.org/event/winter-birding-blitz/
LOCATION:Tennessee
CATEGORIES:Education,Volunteer
END:VEVENT
END:VCALENDAR