BEGIN:VCALENDAR
VERSION:2.0
PRODID:-//Discover Life in America - ECPv6.15.20//NONSGML v1.0//EN
CALSCALE:GREGORIAN
METHOD:PUBLISH
X-ORIGINAL-URL:https://dlia.org
X-WR-CALDESC:Events for Discover Life in America
REFRESH-INTERVAL;VALUE=DURATION:PT1H
X-Robots-Tag:noindex
X-PUBLISHED-TTL:PT1H
BEGIN:VTIMEZONE
TZID:America/New_York
BEGIN:DAYLIGHT
TZOFFSETFROM:-0500
TZOFFSETTO:-0400
TZNAME:EDT
DTSTART:20230312T070000
END:DAYLIGHT
BEGIN:STANDARD
TZOFFSETFROM:-0400
TZOFFSETTO:-0500
TZNAME:EST
DTSTART:20231105T060000
END:STANDARD
BEGIN:DAYLIGHT
TZOFFSETFROM:-0500
TZOFFSETTO:-0400
TZNAME:EDT
DTSTART:20240310T070000
END:DAYLIGHT
BEGIN:STANDARD
TZOFFSETFROM:-0400
TZOFFSETTO:-0500
TZNAME:EST
DTSTART:20241103T060000
END:STANDARD
BEGIN:DAYLIGHT
TZOFFSETFROM:-0500
TZOFFSETTO:-0400
TZNAME:EDT
DTSTART:20250309T070000
END:DAYLIGHT
BEGIN:STANDARD
TZOFFSETFROM:-0400
TZOFFSETTO:-0500
TZNAME:EST
DTSTART:20251102T060000
END:STANDARD
END:VTIMEZONE
BEGIN:VEVENT
DTSTART;TZID=America/New_York:20240416T100000
DTEND;TZID=America/New_York:20240416T150000
DTSTAMP:20260420T145503
CREATED:20240313T205949Z
LAST-MODIFIED:20240319T175330Z
UID:7869-1713261600-1713279600@dlia.org
SUMMARY:Moss and Bryophyte 'Blitz
DESCRIPTION:Meet at Sugarlands Visitor Center \n\n\n\n\n\n\n\nJoin us to learn about and survey moss and bryophytes in Great Smoky Mountains National Park! This is a community science event that is open to all ages and skill levels. Volunteers will help DLiA staff to record moss and other non-vascular plants using the iNaturalist app!  We will cover about 3-4 miles on a moderate trail in GSMNP. \n\n\n\nQuestions? Email our volunteer coordinator\, Jaimie Matzko\, jaimie@dlia.org \n\n\n\n\n\n\n\n\nRegister Here\n\n\n\n\n\n\n\n\n\n\n\n\n\n\n\n\n\n\n\n\n\n\n\n\n\nGet the iNaturalist app.\n\n\n\nDownload the app. Log in. Try it out. \n\n\n\n\nANDROID\n\n\n\niOS
URL:https://dlia.org/event/moss-and-bryophyte-blitz/
LOCATION:Tennessee
CATEGORIES:Fun,Science,Volunteer
END:VEVENT
END:VCALENDAR