BEGIN:VCALENDAR
VERSION:2.0
PRODID:-//Discover Life in America - ECPv6.15.20//NONSGML v1.0//EN
CALSCALE:GREGORIAN
METHOD:PUBLISH
X-WR-CALNAME:Discover Life in America
X-ORIGINAL-URL:https://dlia.org
X-WR-CALDESC:Events for Discover Life in America
REFRESH-INTERVAL;VALUE=DURATION:PT1H
X-Robots-Tag:noindex
X-PUBLISHED-TTL:PT1H
BEGIN:VTIMEZONE
TZID:America/New_York
BEGIN:DAYLIGHT
TZOFFSETFROM:-0500
TZOFFSETTO:-0400
TZNAME:EDT
DTSTART:20230312T070000
END:DAYLIGHT
BEGIN:STANDARD
TZOFFSETFROM:-0400
TZOFFSETTO:-0500
TZNAME:EST
DTSTART:20231105T060000
END:STANDARD
BEGIN:DAYLIGHT
TZOFFSETFROM:-0500
TZOFFSETTO:-0400
TZNAME:EDT
DTSTART:20240310T070000
END:DAYLIGHT
BEGIN:STANDARD
TZOFFSETFROM:-0400
TZOFFSETTO:-0500
TZNAME:EST
DTSTART:20241103T060000
END:STANDARD
BEGIN:DAYLIGHT
TZOFFSETFROM:-0500
TZOFFSETTO:-0400
TZNAME:EDT
DTSTART:20250309T070000
END:DAYLIGHT
BEGIN:STANDARD
TZOFFSETFROM:-0400
TZOFFSETTO:-0500
TZNAME:EST
DTSTART:20251102T060000
END:STANDARD
END:VTIMEZONE
BEGIN:VEVENT
DTSTART;TZID=America/New_York:20241004T100000
DTEND;TZID=America/New_York:20241004T150000
DTSTAMP:20260420T060527
CREATED:20240910T165016Z
LAST-MODIFIED:20241001T135223Z
UID:8171-1728036000-1728054000@dlia.org
SUMMARY:Monarch Tagging in the Cataloochee Valley
DESCRIPTION:Canceled: The Monarch tagging event is canceled in response to the catastrophic storm damage in North Carolina and Tennessee. We hope to try again in 2025.  \n\n\n\nHurricane Helene has completely devastated our region beyond comprehension. I know many of you have impacted directly or indirectly. If you are in a position to volunteer or give for relief efforts\, here are some ways to help:  \n\n\n\nTennessee: https://www.tn.gov/volunteer-tennessee/disaster-services.html \n\n\n\nNorth Carolina: https://www.ncvoad.org/ \n\n\n\nQuestions? Email our volunteer coordinator\, Jaimie Matzko\, jaimie@dlia.org
URL:https://dlia.org/event/monarch-tagging-in-the-cataloochee-valley/
LOCATION:Tennessee
ATTACH;FMTTYPE=image/png:https://dlia.org/wp-content/uploads/2024/09/Facebook-Event-Covers-Instagram-Post-1.png
END:VEVENT
END:VCALENDAR