BEGIN:VCALENDAR
VERSION:2.0
PRODID:-//Discover Life in America - ECPv6.15.20//NONSGML v1.0//EN
CALSCALE:GREGORIAN
METHOD:PUBLISH
X-WR-CALNAME:Discover Life in America
X-ORIGINAL-URL:https://dlia.org
X-WR-CALDESC:Events for Discover Life in America
REFRESH-INTERVAL;VALUE=DURATION:PT1H
X-Robots-Tag:noindex
X-PUBLISHED-TTL:PT1H
BEGIN:VTIMEZONE
TZID:America/New_York
BEGIN:DAYLIGHT
TZOFFSETFROM:-0500
TZOFFSETTO:-0400
TZNAME:EDT
DTSTART:20230312T070000
END:DAYLIGHT
BEGIN:STANDARD
TZOFFSETFROM:-0400
TZOFFSETTO:-0500
TZNAME:EST
DTSTART:20231105T060000
END:STANDARD
BEGIN:DAYLIGHT
TZOFFSETFROM:-0500
TZOFFSETTO:-0400
TZNAME:EDT
DTSTART:20240310T070000
END:DAYLIGHT
BEGIN:STANDARD
TZOFFSETFROM:-0400
TZOFFSETTO:-0500
TZNAME:EST
DTSTART:20241103T060000
END:STANDARD
BEGIN:DAYLIGHT
TZOFFSETFROM:-0500
TZOFFSETTO:-0400
TZNAME:EDT
DTSTART:20250309T070000
END:DAYLIGHT
BEGIN:STANDARD
TZOFFSETFROM:-0400
TZOFFSETTO:-0500
TZNAME:EST
DTSTART:20251102T060000
END:STANDARD
END:VTIMEZONE
BEGIN:VEVENT
DTSTART;TZID=America/New_York:20241024T190000
DTEND;TZID=America/New_York:20241024T190000
DTSTAMP:20260420T060533
CREATED:20240927T201840Z
LAST-MODIFIED:20240927T201843Z
UID:8191-1729796400-1729796400@dlia.org
SUMMARY:Conservation on Tap
DESCRIPTION:Conservation on TapThursday\, October 24th at 7 p.m.Albright Grove Brewing Company \n\n\n\nBat Conservation in East Tennessee with Liz Hamrick and friends \n\n\n\nJoin us for a Halloween-themed Conservation on Tap to learn about bats from Tennessee Valley Authority bat specialist\, Liz Hamrick and friends!  \n\n\n\nDress up as your favorite species and compete in our costume contest with prizes. \n\n\n\nProceeds benefit Discover Life in America\, the nonprofit science partner of Great Smoky Mountains National Park! 
URL:https://dlia.org/event/conservation-on-tap-17/
LOCATION:Albright Grove Brewing Company\, 2924 Sutherland Ave\, Knoxville\, Tennessee\, 37919
ATTACH;FMTTYPE=image/png:https://dlia.org/wp-content/uploads/2024/09/Copy-of-Conservation-on-Tap-Facebook-Cover-14.png
END:VEVENT
END:VCALENDAR