BEGIN:VCALENDAR
VERSION:2.0
PRODID:-//Discover Life in America - ECPv6.15.20//NONSGML v1.0//EN
CALSCALE:GREGORIAN
METHOD:PUBLISH
X-ORIGINAL-URL:https://dlia.org
X-WR-CALDESC:Events for Discover Life in America
REFRESH-INTERVAL;VALUE=DURATION:PT1H
X-Robots-Tag:noindex
X-PUBLISHED-TTL:PT1H
BEGIN:VTIMEZONE
TZID:America/New_York
BEGIN:DAYLIGHT
TZOFFSETFROM:-0500
TZOFFSETTO:-0400
TZNAME:EDT
DTSTART:20240310T070000
END:DAYLIGHT
BEGIN:STANDARD
TZOFFSETFROM:-0400
TZOFFSETTO:-0500
TZNAME:EST
DTSTART:20241103T060000
END:STANDARD
BEGIN:DAYLIGHT
TZOFFSETFROM:-0500
TZOFFSETTO:-0400
TZNAME:EDT
DTSTART:20250309T070000
END:DAYLIGHT
BEGIN:STANDARD
TZOFFSETFROM:-0400
TZOFFSETTO:-0500
TZNAME:EST
DTSTART:20251102T060000
END:STANDARD
BEGIN:DAYLIGHT
TZOFFSETFROM:-0500
TZOFFSETTO:-0400
TZNAME:EDT
DTSTART:20260308T070000
END:DAYLIGHT
BEGIN:STANDARD
TZOFFSETFROM:-0400
TZOFFSETTO:-0500
TZNAME:EST
DTSTART:20261101T060000
END:STANDARD
END:VTIMEZONE
BEGIN:VEVENT
DTSTART;TZID=America/New_York:20250301T163000
DTEND;TZID=America/New_York:20250301T203000
DTSTAMP:20260419T224226
CREATED:20250211T171525Z
LAST-MODIFIED:20250220T170431Z
UID:8614-1740846600-1740861000@dlia.org
SUMMARY:Amphibian Monitoring
DESCRIPTION:Amphibian Survey in Cades Cove \n\n\n\nSaturday\, March 1: 4:30 p.m. to 8:30 p.m. Eastern \n\n\n\nJoin us for our first volunteer event of the year on Saturday\, Feb 22 from 4:30 to 8:30pm to survey amphibians in Cades Cove! \n\n\n\nWe’ll be working with experts from the Amphibian and Reptile Conservancy (arcprotects.org)\, University of TN and Great Smoky Mountains Institute at Tremont (gsmit.org) to document any frogs and salamanders we see\, calls we hear and egg masses we find! \n\n\n\nSpots are limited!  \n\n\n\n\nRegister\n\n\n\n\nVolunteer with DLiA \n\n\n\nVolunteers have contributed significantly to the success of the All Taxa Biodiversity Inventory (ATBI) since we began\, through field work\, education and outreach\, and financial support. DLiA could not continue to function without the help of our dedicated volunteers and supporters. Thank you!
URL:https://dlia.org/event/amphibian-monitoring/
LOCATION:Tennessee
ATTACH;FMTTYPE=image/jpeg:https://dlia.org/wp-content/uploads/2025/02/large-17.jpeg
END:VEVENT
END:VCALENDAR