BEGIN:VCALENDAR
VERSION:2.0
PRODID:-//Discover Life in America - ECPv6.15.20//NONSGML v1.0//EN
CALSCALE:GREGORIAN
METHOD:PUBLISH
X-WR-CALNAME:Discover Life in America
X-ORIGINAL-URL:https://dlia.org
X-WR-CALDESC:Events for Discover Life in America
REFRESH-INTERVAL;VALUE=DURATION:PT1H
X-Robots-Tag:noindex
X-PUBLISHED-TTL:PT1H
BEGIN:VTIMEZONE
TZID:America/New_York
BEGIN:DAYLIGHT
TZOFFSETFROM:-0500
TZOFFSETTO:-0400
TZNAME:EDT
DTSTART:20240310T070000
END:DAYLIGHT
BEGIN:STANDARD
TZOFFSETFROM:-0400
TZOFFSETTO:-0500
TZNAME:EST
DTSTART:20241103T060000
END:STANDARD
BEGIN:DAYLIGHT
TZOFFSETFROM:-0500
TZOFFSETTO:-0400
TZNAME:EDT
DTSTART:20250309T070000
END:DAYLIGHT
BEGIN:STANDARD
TZOFFSETFROM:-0400
TZOFFSETTO:-0500
TZNAME:EST
DTSTART:20251102T060000
END:STANDARD
BEGIN:DAYLIGHT
TZOFFSETFROM:-0500
TZOFFSETTO:-0400
TZNAME:EDT
DTSTART:20260308T070000
END:DAYLIGHT
BEGIN:STANDARD
TZOFFSETFROM:-0400
TZOFFSETTO:-0500
TZNAME:EST
DTSTART:20261101T060000
END:STANDARD
END:VTIMEZONE
BEGIN:VEVENT
DTSTART;TZID=America/New_York:20250416T190000
DTEND;TZID=America/New_York:20250416T200000
DTSTAMP:20260419T210848
CREATED:20250313T182907Z
LAST-MODIFIED:20250402T200341Z
UID:8855-1744830000-1744833600@dlia.org
SUMMARY:Conservation on Tap
DESCRIPTION:Conservation on Tap—join us at our new location!  \n\n\n\n📅Wednesday\, April 16 at 7 p.m.🍺Shultz Bräu Brewing Co. \n\n\n\n\n\nJoin us for an insightful presentation by Phil Francis\, Chairman of the Coalition to Protect America’s National Parks\, and former acting superintendent of GSMNP\, as he provides an update on the current challenges facing the National Park Service and our national parks.  \n\n\n\nFrancis will discuss the critical resources that need protection and the staffing necessary to ensure the preservation and maintenance of these cherished public lands. This event is a must-attend for anyone passionate about the future of America’s national parks and the efforts needed to safeguard them for generations to come. Learn more at: protectnps.org. \n\n\n\nJoin us to support local conservation efforts and enjoy a wide selection of 20+ beers on-tap (and plenty of nonalcoholic beverages) and some authentic German fare from Schulzes Schnitzel Kitchen!
URL:https://dlia.org/event/cot-april2025/
LOCATION:Tennessee
ATTACH;FMTTYPE=image/png:https://dlia.org/wp-content/uploads/2025/03/4.png
END:VEVENT
END:VCALENDAR