BEGIN:VCALENDAR
VERSION:2.0
PRODID:-//Discover Life in America - ECPv6.15.20//NONSGML v1.0//EN
CALSCALE:GREGORIAN
METHOD:PUBLISH
X-ORIGINAL-URL:https://dlia.org
X-WR-CALDESC:Events for Discover Life in America
REFRESH-INTERVAL;VALUE=DURATION:PT1H
X-Robots-Tag:noindex
X-PUBLISHED-TTL:PT1H
BEGIN:VTIMEZONE
TZID:America/New_York
BEGIN:DAYLIGHT
TZOFFSETFROM:-0500
TZOFFSETTO:-0400
TZNAME:EDT
DTSTART:20240310T070000
END:DAYLIGHT
BEGIN:STANDARD
TZOFFSETFROM:-0400
TZOFFSETTO:-0500
TZNAME:EST
DTSTART:20241103T060000
END:STANDARD
BEGIN:DAYLIGHT
TZOFFSETFROM:-0500
TZOFFSETTO:-0400
TZNAME:EDT
DTSTART:20250309T070000
END:DAYLIGHT
BEGIN:STANDARD
TZOFFSETFROM:-0400
TZOFFSETTO:-0500
TZNAME:EST
DTSTART:20251102T060000
END:STANDARD
BEGIN:DAYLIGHT
TZOFFSETFROM:-0500
TZOFFSETTO:-0400
TZNAME:EDT
DTSTART:20260308T070000
END:DAYLIGHT
BEGIN:STANDARD
TZOFFSETFROM:-0400
TZOFFSETTO:-0500
TZNAME:EST
DTSTART:20261101T060000
END:STANDARD
END:VTIMEZONE
BEGIN:VEVENT
DTSTART;TZID=America/New_York:20250618T190000
DTEND;TZID=America/New_York:20250618T210000
DTSTAMP:20260419T180608
CREATED:20250529T164916Z
LAST-MODIFIED:20250602T140423Z
UID:9316-1750273200-1750280400@dlia.org
SUMMARY:CONSERVATION ON TAP
DESCRIPTION:CONSERVATION ON TAP \n\n\n\nJune 18\, 7.00 p.m. \n\n\n\nSchulz Bräu Brewing Company \n\n\n\nFree! \n\n\n\nWildways: Linking Landscapes for Appalachian Wildlife \n\n\n\nDr. Liz Hillard\, Senior Wildlife Biologist with Wildlands Network\, will highlight regional research and collaborative efforts focused on protecting key habitat corridors\, improving habitat through restoration and management\, and ensuring safe passage for wildlife across roadways—so that the region’s rich biodiversity can continue to thrive. \n\n\n\nJoin us to support local conservation efforts and enjoy a wide selection of 20+ beers on-tap (and plenty of nonalcoholic beverages) and some authentic German fare from Schulz’s Schnitzel Kitchen!  \n\n\n\nProgram offered by Discover Life in America\, the official science partner of Great Smoky Mountains National Park. DLiA.org
URL:https://dlia.org/event/conservation-on-tap-19/
LOCATION:Schulz Bräu Brewing Company\, 126 Bernard Ave\, Knoxville\, Tennessee\, 37917\, United States
ATTACH;FMTTYPE=image/png:https://dlia.org/wp-content/uploads/2025/05/COT-Instagram-16.png
END:VEVENT
END:VCALENDAR