BEGIN:VCALENDAR
VERSION:2.0
PRODID:-//Discover Life in America - ECPv6.15.20//NONSGML v1.0//EN
CALSCALE:GREGORIAN
METHOD:PUBLISH
X-WR-CALNAME:Discover Life in America
X-ORIGINAL-URL:https://dlia.org
X-WR-CALDESC:Events for Discover Life in America
REFRESH-INTERVAL;VALUE=DURATION:PT1H
X-Robots-Tag:noindex
X-PUBLISHED-TTL:PT1H
BEGIN:VTIMEZONE
TZID:America/New_York
BEGIN:DAYLIGHT
TZOFFSETFROM:-0500
TZOFFSETTO:-0400
TZNAME:EDT
DTSTART:20240310T070000
END:DAYLIGHT
BEGIN:STANDARD
TZOFFSETFROM:-0400
TZOFFSETTO:-0500
TZNAME:EST
DTSTART:20241103T060000
END:STANDARD
BEGIN:DAYLIGHT
TZOFFSETFROM:-0500
TZOFFSETTO:-0400
TZNAME:EDT
DTSTART:20250309T070000
END:DAYLIGHT
BEGIN:STANDARD
TZOFFSETFROM:-0400
TZOFFSETTO:-0500
TZNAME:EST
DTSTART:20251102T060000
END:STANDARD
BEGIN:DAYLIGHT
TZOFFSETFROM:-0500
TZOFFSETTO:-0400
TZNAME:EDT
DTSTART:20260308T070000
END:DAYLIGHT
BEGIN:STANDARD
TZOFFSETFROM:-0400
TZOFFSETTO:-0500
TZNAME:EST
DTSTART:20261101T060000
END:STANDARD
END:VTIMEZONE
BEGIN:VEVENT
DTSTART;TZID=America/New_York:20250712T080000
DTEND;TZID=America/New_York:20250712T110000
DTSTAMP:20260419T163113
CREATED:20250528T143557Z
LAST-MODIFIED:20250528T144105Z
UID:9300-1752307200-1752318000@dlia.org
SUMMARY:Hall Bend Trail BioBlitz
DESCRIPTION:Free\, family friendly opportunity to learn about local animals and plants while contributing to science. Join Discover Life in America and the Tennessee Valley Authority at the Hall Bend Trail in Lenoir City\, TN!  \n\n\n\nTwo chances to ‘blitz!\n\n\n\nFriday\, July 11 from 7pm to 10pm Eastern: Join us for an evening of discoveries…we will continue in the dark\, as we will set up a black light to monitor insect populations! \n\n\n\nSaturday\, July 12 from 8am to 11am Eastern: The morning is a great time to look for birds and we will continue to look for other flora and fauna throughout the morning! \n\n\n\n\n\n\n\n\nREGISTER HERE\n\n\n\n\n\n\n\n\n\n\n\n\nWhere? \n\n\n\nHall Bend Trailhead \n\n\n\nLenoir City\, TN 37771
URL:https://dlia.org/event/hall-bend-bioblitz-2/
LOCATION:Tennessee
ATTACH;FMTTYPE=image/jpeg:https://dlia.org/wp-content/uploads/2025/05/DSC01148-scaled.jpg
END:VEVENT
END:VCALENDAR