BEGIN:VCALENDAR
VERSION:2.0
PRODID:-//Discover Life in America - ECPv6.15.20//NONSGML v1.0//EN
CALSCALE:GREGORIAN
METHOD:PUBLISH
X-WR-CALNAME:Discover Life in America
X-ORIGINAL-URL:https://dlia.org
X-WR-CALDESC:Events for Discover Life in America
REFRESH-INTERVAL;VALUE=DURATION:PT1H
X-Robots-Tag:noindex
X-PUBLISHED-TTL:PT1H
BEGIN:VTIMEZONE
TZID:America/New_York
BEGIN:DAYLIGHT
TZOFFSETFROM:-0500
TZOFFSETTO:-0400
TZNAME:EDT
DTSTART:20240310T070000
END:DAYLIGHT
BEGIN:STANDARD
TZOFFSETFROM:-0400
TZOFFSETTO:-0500
TZNAME:EST
DTSTART:20241103T060000
END:STANDARD
BEGIN:DAYLIGHT
TZOFFSETFROM:-0500
TZOFFSETTO:-0400
TZNAME:EDT
DTSTART:20250309T070000
END:DAYLIGHT
BEGIN:STANDARD
TZOFFSETFROM:-0400
TZOFFSETTO:-0500
TZNAME:EST
DTSTART:20251102T060000
END:STANDARD
BEGIN:DAYLIGHT
TZOFFSETFROM:-0500
TZOFFSETTO:-0400
TZNAME:EDT
DTSTART:20260308T070000
END:DAYLIGHT
BEGIN:STANDARD
TZOFFSETFROM:-0400
TZOFFSETTO:-0500
TZNAME:EST
DTSTART:20261101T060000
END:STANDARD
END:VTIMEZONE
BEGIN:VEVENT
DTSTART;TZID=America/New_York:20250716T173000
DTEND;TZID=America/New_York:20250716T193000
DTSTAMP:20260419T164017
CREATED:20221208T180613Z
LAST-MODIFIED:20250626T155530Z
UID:6186-1752687000-1752694200@dlia.org
SUMMARY:Conservation on Tap
DESCRIPTION:CONSERVATION ON TAPWednesday\, July 16 at 5:30 p.m.–7:30 p.m.Schulz Brau Brewing Co. \n\n\n\n“Support Our Public Lands: Learn How to Help Parks\, Forests\, and the Places You Love” \n\n\n\nJoin us for this month’s Conservation on Tap event to show your support for our public lands! \n\n\n\nThis is a great opportunity to hear from and network with staff and volunteers from Appalachian Trail Conservancy\, Discover Life in America\, Great Smoky Mountains Institute at Tremont\, Harvey Broome Group of the Sierra Club\, National Parks Conservation Association\, Smokies Safe Passage\, Smokies Life\, Tennessee Citizens for Wilderness Planning\, and The Wilderness Society. All the organizations are active in the region\, working on a variety of issues and missions related to public lands\, parks\, wilderness areas\, and their continued viability. \n\n\n\n“We want to give people an opportunity to learn about what we all do\, what’s helpful right now\, and how people can directlysupport the public lands that they love\,” said Jacqueline Harp\, CEO of Smokies Life\, a nonprofit partner of Great Smoky Mountains National Park. \n\n\n\nThe evening will allow neighbors who may feel similarly about conservation to meet and converse.” Printed materials will be available for takeaway. \n\n\n\nThe free event takes place from 5:30–7:30 p.m.\, Wednesday\, July 16\, at Schulz Bräu Brewing Co.\, 126 Bernard Avenue in Knoxville. Speakers start at 6:00 p.m. with a brief Q&A period and social hour to follow.  \n\n\n\nA wide selection of beers will be available on-tap along with nonalcoholic beverages and authentic German fare from Schulz’s Schnitzel Kitchen.  \n\n\n\n\n\n\n\n\n\n\n\n\n\n\n\n\n\n\n\n\n\n\n\nA big thank you to National Parks Conservation Association and all of the other nonprofit organizations participating and co-hosting this event with DLiA!
URL:https://dlia.org/event/conservation-on-tap/
LOCATION:Schulz Bräu Brewing Company\, 126 Bernard Ave\, Knoxville\, Tennessee\, 37917\, United States
ATTACH;FMTTYPE=image/jpeg:https://dlia.org/wp-content/uploads/2022/12/1080x1080_IG_Support-Our-Public-Lands-event_simple_JULY.jpg
END:VEVENT
END:VCALENDAR