BEGIN:VCALENDAR
VERSION:2.0
PRODID:-//Discover Life in America - ECPv6.15.20//NONSGML v1.0//EN
CALSCALE:GREGORIAN
METHOD:PUBLISH
X-ORIGINAL-URL:https://dlia.org
X-WR-CALDESC:Events for Discover Life in America
REFRESH-INTERVAL;VALUE=DURATION:PT1H
X-Robots-Tag:noindex
X-PUBLISHED-TTL:PT1H
BEGIN:VTIMEZONE
TZID:America/New_York
BEGIN:DAYLIGHT
TZOFFSETFROM:-0500
TZOFFSETTO:-0400
TZNAME:EDT
DTSTART:20240310T070000
END:DAYLIGHT
BEGIN:STANDARD
TZOFFSETFROM:-0400
TZOFFSETTO:-0500
TZNAME:EST
DTSTART:20241103T060000
END:STANDARD
BEGIN:DAYLIGHT
TZOFFSETFROM:-0500
TZOFFSETTO:-0400
TZNAME:EDT
DTSTART:20250309T070000
END:DAYLIGHT
BEGIN:STANDARD
TZOFFSETFROM:-0400
TZOFFSETTO:-0500
TZNAME:EST
DTSTART:20251102T060000
END:STANDARD
BEGIN:DAYLIGHT
TZOFFSETFROM:-0500
TZOFFSETTO:-0400
TZNAME:EDT
DTSTART:20260308T070000
END:DAYLIGHT
BEGIN:STANDARD
TZOFFSETFROM:-0400
TZOFFSETTO:-0500
TZNAME:EST
DTSTART:20261101T060000
END:STANDARD
END:VTIMEZONE
BEGIN:VEVENT
DTSTART;TZID=America/New_York:20250820T190000
DTEND;TZID=America/New_York:20250820T200000
DTSTAMP:20260419T151916
CREATED:20250627T211644Z
LAST-MODIFIED:20250630T151701Z
UID:9441-1755716400-1755720000@dlia.org
SUMMARY:Conservation on Tap
DESCRIPTION:Are You Bearwise? \n\n\n\n\nConservation on Tap \n\n\n\nWednesday\, August 20\, 7:00 pm-8:00 pm  \n\n\n\nSchulz Brau Brewing Company\, Knoxville \n\n\n\n\nFREE! \n\n\n\nJoin TWRA Bear Biologist Janelle Musser and others to learn more about BearWise®\,  a nationwide program that is helping people learn to live and recreate responsibly in bear country. Find out how BearWise projects help keep bears wild and people safe!   \n\n\n\nProceeds from this event benefit Discover Life in America\, the official science partner of Great Smoky Mountains National Park. Visit DLiA.org to learn more.
URL:https://dlia.org/event/conservation-on-tap-20/
LOCATION:Tennessee
ATTACH;FMTTYPE=image/png:https://dlia.org/wp-content/uploads/2025/06/Add-a-subheading-5.png
END:VEVENT
END:VCALENDAR