BEGIN:VCALENDAR
VERSION:2.0
PRODID:-//Discover Life in America - ECPv6.15.20//NONSGML v1.0//EN
CALSCALE:GREGORIAN
METHOD:PUBLISH
X-ORIGINAL-URL:https://dlia.org
X-WR-CALDESC:Events for Discover Life in America
REFRESH-INTERVAL;VALUE=DURATION:PT1H
X-Robots-Tag:noindex
X-PUBLISHED-TTL:PT1H
BEGIN:VTIMEZONE
TZID:America/New_York
BEGIN:DAYLIGHT
TZOFFSETFROM:-0500
TZOFFSETTO:-0400
TZNAME:EDT
DTSTART:20240310T070000
END:DAYLIGHT
BEGIN:STANDARD
TZOFFSETFROM:-0400
TZOFFSETTO:-0500
TZNAME:EST
DTSTART:20241103T060000
END:STANDARD
BEGIN:DAYLIGHT
TZOFFSETFROM:-0500
TZOFFSETTO:-0400
TZNAME:EDT
DTSTART:20250309T070000
END:DAYLIGHT
BEGIN:STANDARD
TZOFFSETFROM:-0400
TZOFFSETTO:-0500
TZNAME:EST
DTSTART:20251102T060000
END:STANDARD
BEGIN:DAYLIGHT
TZOFFSETFROM:-0500
TZOFFSETTO:-0400
TZNAME:EDT
DTSTART:20260308T070000
END:DAYLIGHT
BEGIN:STANDARD
TZOFFSETFROM:-0400
TZOFFSETTO:-0500
TZNAME:EST
DTSTART:20261101T060000
END:STANDARD
END:VTIMEZONE
BEGIN:VEVENT
DTSTART;TZID=America/New_York:20250830T110000
DTEND;TZID=America/New_York:20250830T140000
DTSTAMP:20260419T151918
CREATED:20250801T202343Z
LAST-MODIFIED:20250801T202347Z
UID:9501-1756551600-1756562400@dlia.org
SUMMARY:Bumble Bee Atlas Field Training
DESCRIPTION:Bumble Bee Atlas Field Training \n\n\n\nWhen? Saturday\, August 30 from 11 a.m. to 2 p.m. \n\n\n\nWhere? Discover Life in America office 1316 Cherokee Orchard Rd Gatlinburg\, TN 37738 \n\n\n\nDirections: from Cherokee Orchard Road\, turn right into the Twin Creeks complex and continue on the road past the Twin Creeks Science Center and the road that goes to the pavilion until you see our little cabin and the Discover Life in America sign. \n\n\n\nDescription: Join us to learn how you can participate in surveying bumble bees with Discover Life in America and the Xerces Society’s Southeast Bumble Bee Atlas! This is a hands-on field training session for anyone interested in conducting bumble bee surveys at specified sites within GSMNP during the month of September through the Xerces Society’s Southeast Bumble Bee Atlas.  \n\n\n\n\n\n\n\n\n\n\n\n\n\n\nVolunteer with DLiA \n\n\n\nVolunteers have contributed significantly to the success of the All Taxa Biodiversity Inventory (ATBI) since we began\, through field work\, education and outreach\, and financial support. DLiA could not continue to function without the help of our dedicated volunteers and supporters.
URL:https://dlia.org/event/bumble-bee-atlas-field-training/
LOCATION:Tennessee
ATTACH;FMTTYPE=image/png:https://dlia.org/wp-content/uploads/2025/07/Saturday-August-30-11-a.m.–2-p.m.-2.png
END:VEVENT
END:VCALENDAR