BEGIN:VCALENDAR
VERSION:2.0
PRODID:-//Discover Life in America - ECPv6.15.20//NONSGML v1.0//EN
CALSCALE:GREGORIAN
METHOD:PUBLISH
X-WR-CALNAME:Discover Life in America
X-ORIGINAL-URL:https://dlia.org
X-WR-CALDESC:Events for Discover Life in America
REFRESH-INTERVAL;VALUE=DURATION:PT1H
X-Robots-Tag:noindex
X-PUBLISHED-TTL:PT1H
BEGIN:VTIMEZONE
TZID:America/New_York
BEGIN:DAYLIGHT
TZOFFSETFROM:-0500
TZOFFSETTO:-0400
TZNAME:EDT
DTSTART:20210314T070000
END:DAYLIGHT
BEGIN:STANDARD
TZOFFSETFROM:-0400
TZOFFSETTO:-0500
TZNAME:EST
DTSTART:20211107T060000
END:STANDARD
BEGIN:DAYLIGHT
TZOFFSETFROM:-0500
TZOFFSETTO:-0400
TZNAME:EDT
DTSTART:20220313T070000
END:DAYLIGHT
BEGIN:STANDARD
TZOFFSETFROM:-0400
TZOFFSETTO:-0500
TZNAME:EST
DTSTART:20221106T060000
END:STANDARD
BEGIN:DAYLIGHT
TZOFFSETFROM:-0500
TZOFFSETTO:-0400
TZNAME:EDT
DTSTART:20230312T070000
END:DAYLIGHT
BEGIN:STANDARD
TZOFFSETFROM:-0400
TZOFFSETTO:-0500
TZNAME:EST
DTSTART:20231105T060000
END:STANDARD
END:VTIMEZONE
BEGIN:VEVENT
DTSTART;TZID=America/New_York:20221007T180000
DTEND;TZID=America/New_York:20221007T213000
DTSTAMP:20260421T062953
CREATED:20220810T173317Z
LAST-MODIFIED:20220819T163152Z
UID:5772-1665165600-1665178200@dlia.org
SUMMARY:Salamander Ball on Wheels 2022
DESCRIPTION:Come one\, come all\, to the Salamander Ball! Our third annual “Salamander Ball on Wheels” is an appreciation event to thank our volunteers\, sponsors and supporters\, past and present.Save the date October 7th for an evening of family-friendly fun and our featured movie\, The Lorax at the Parkway Drive-in Movie Theater in Maryville\, TN! \n\n\n\nIt’s free\, but donations are welcome to support this event!
URL:https://dlia.org/event/salamander-ball-on-wheels-2022/
LOCATION:Parkway Drive-in Theatre\, Maryville\, TN\, 2909 E Lamar Alexander Pkwy\, Maryville\, Tennessee\, 37804
CATEGORIES:Fun,Fundraiser,Volunteer
ATTACH;FMTTYPE=image/png:https://dlia.org/wp-content/uploads/2022/08/Salamander-Ball-on-Wheels-3-2.png
END:VEVENT
END:VCALENDAR