BEGIN:VCALENDAR
VERSION:2.0
PRODID:-//Discover Life in America - ECPv6.15.20//NONSGML v1.0//EN
CALSCALE:GREGORIAN
METHOD:PUBLISH
X-WR-CALNAME:Discover Life in America
X-ORIGINAL-URL:https://dlia.org
X-WR-CALDESC:Events for Discover Life in America
REFRESH-INTERVAL;VALUE=DURATION:PT1H
X-Robots-Tag:noindex
X-PUBLISHED-TTL:PT1H
BEGIN:VTIMEZONE
TZID:America/New_York
BEGIN:DAYLIGHT
TZOFFSETFROM:-0500
TZOFFSETTO:-0400
TZNAME:EDT
DTSTART:20230312T070000
END:DAYLIGHT
BEGIN:STANDARD
TZOFFSETFROM:-0400
TZOFFSETTO:-0500
TZNAME:EST
DTSTART:20231105T060000
END:STANDARD
BEGIN:DAYLIGHT
TZOFFSETFROM:-0500
TZOFFSETTO:-0400
TZNAME:EDT
DTSTART:20240310T070000
END:DAYLIGHT
BEGIN:STANDARD
TZOFFSETFROM:-0400
TZOFFSETTO:-0500
TZNAME:EST
DTSTART:20241103T060000
END:STANDARD
BEGIN:DAYLIGHT
TZOFFSETFROM:-0500
TZOFFSETTO:-0400
TZNAME:EDT
DTSTART:20250309T070000
END:DAYLIGHT
BEGIN:STANDARD
TZOFFSETFROM:-0400
TZOFFSETTO:-0500
TZNAME:EST
DTSTART:20251102T060000
END:STANDARD
END:VTIMEZONE
BEGIN:VEVENT
DTSTART;TZID=America/New_York:20240208T090000
DTEND;TZID=America/New_York:20240208T150000
DTSTAMP:20260420T162307
CREATED:20231127T214352Z
LAST-MODIFIED:20231130T172629Z
UID:7476-1707382800-1707404400@dlia.org
SUMMARY:DNA Barcoding Workshop
DESCRIPTION:Join us for this informative (and fun!) workshop\, where we will be preparing specimens to be sent to be sequenced for DNA barcoding. This is a training opportunity for anyone who is interested in volunteering with DLiA ‘s DNA barcoding project\, but is open to anyone wanting to learn about the process. \n\n\n\nSpaces are limited so please send a request for a spot to Jaimie Matzko\, DLiA Biodiversity Program Specialist: jaimie@dlia.org
URL:https://dlia.org/event/dna-barcoding-workshop/
LOCATION:Twin Creeks Science Center\, 1316 Cherokee Orchard Road\, Gatlinburg\, Tennessee\, 37738
CATEGORIES:Volunteer,Workshop
ATTACH;FMTTYPE=image/png:https://dlia.org/wp-content/uploads/2023/11/Great-smokies-3.png
END:VEVENT
BEGIN:VEVENT
DTSTART;TZID=America/New_York:20240221T190000
DTEND;TZID=America/New_York:20240221T203000
DTSTAMP:20260420T162307
CREATED:20231127T210008Z
LAST-MODIFIED:20240117T202540Z
UID:7463-1708542000-1708547400@dlia.org
SUMMARY:Conservation on Tap
DESCRIPTION:Conservation on Tap is a monthly series hosted by Albright Grove Brewing Co. to benefit Discover Life in America\, Great Smoky Mountain National Park’s biological science and conservation partner.
URL:https://dlia.org/event/conservation-on-tap-12/
LOCATION:Albright Grove Brewing Company\, 2924 Sutherland Ave\, Knoxville\, Tennessee\, 37919
CATEGORIES:Conservation on Tap
END:VEVENT
END:VCALENDAR