BEGIN:VCALENDAR
VERSION:2.0
PRODID:-//Discover Life in America - ECPv6.15.20//NONSGML v1.0//EN
CALSCALE:GREGORIAN
METHOD:PUBLISH
X-ORIGINAL-URL:https://dlia.org
X-WR-CALDESC:Events for Discover Life in America
REFRESH-INTERVAL;VALUE=DURATION:PT1H
X-Robots-Tag:noindex
X-PUBLISHED-TTL:PT1H
BEGIN:VTIMEZONE
TZID:America/New_York
BEGIN:DAYLIGHT
TZOFFSETFROM:-0500
TZOFFSETTO:-0400
TZNAME:EDT
DTSTART:20230312T070000
END:DAYLIGHT
BEGIN:STANDARD
TZOFFSETFROM:-0400
TZOFFSETTO:-0500
TZNAME:EST
DTSTART:20231105T060000
END:STANDARD
BEGIN:DAYLIGHT
TZOFFSETFROM:-0500
TZOFFSETTO:-0400
TZNAME:EDT
DTSTART:20240310T070000
END:DAYLIGHT
BEGIN:STANDARD
TZOFFSETFROM:-0400
TZOFFSETTO:-0500
TZNAME:EST
DTSTART:20241103T060000
END:STANDARD
BEGIN:DAYLIGHT
TZOFFSETFROM:-0500
TZOFFSETTO:-0400
TZNAME:EDT
DTSTART:20250309T070000
END:DAYLIGHT
BEGIN:STANDARD
TZOFFSETFROM:-0400
TZOFFSETTO:-0500
TZNAME:EST
DTSTART:20251102T060000
END:STANDARD
END:VTIMEZONE
BEGIN:VEVENT
DTSTART;TZID=America/New_York:20241211T190000
DTEND;TZID=America/New_York:20241211T200000
DTSTAMP:20260420T014307
CREATED:20241122T163731Z
LAST-MODIFIED:20241211T174231Z
UID:8392-1733943600-1733947200@dlia.org
SUMMARY:Conservation on Tap
DESCRIPTION:Save the Mussels; Save the RiversConservation on TapAlbright Grove Brewing Company\, Knoxville \n\n\n\nOur region has a greater variety of freshwater mussels than anywhere else in the world! Learn about the fascinating lives of these complicated creatures\, the vital role they play in aquatic ecosystems\, and the conservation superheroes working to save the rarest aquatic mollusks in the American Southeast. Presented by: Todd Amacker\, Aquatic Endangered Species Biologist\, TVA. \n\n\n\nSPECIAL NOTE: Albright Grove Brewing is now serving delicious farm-to-table food! Pizza\, smash burgers\, hot legs\, mushroom Philly\, fish & chips\, and more. \n\n\n\nProceeds benefit Discover Life in America. Learn more at dlia.org.  \n\n\n\n\n\n\n\n\n\n\n\n\n\n\n\nTodd Amacker is a non-game fisheries biologist interested in the ecology\, taxonomy\, distribution\, and conservation of freshwater fishes and mollusks in the American Southeast. I’m also a naturalist engaged in science communication; I use popularized science writing\, digital photography\, and videography to promote biodiversity conservation and natural history appreciation.
URL:https://dlia.org/event/conservation-on-tap-11-24/
LOCATION:Tennessee
ATTACH;FMTTYPE=image/jpeg:https://dlia.org/wp-content/uploads/2024/11/image001-1.jpg
END:VEVENT
END:VCALENDAR