BEGIN:VCALENDAR
VERSION:2.0
PRODID:-//Discover Life in America - ECPv6.15.20//NONSGML v1.0//EN
CALSCALE:GREGORIAN
METHOD:PUBLISH
X-WR-CALNAME:Discover Life in America
X-ORIGINAL-URL:https://dlia.org
X-WR-CALDESC:Events for Discover Life in America
REFRESH-INTERVAL;VALUE=DURATION:PT1H
X-Robots-Tag:noindex
X-PUBLISHED-TTL:PT1H
BEGIN:VTIMEZONE
TZID:America/New_York
BEGIN:DAYLIGHT
TZOFFSETFROM:-0500
TZOFFSETTO:-0400
TZNAME:EDT
DTSTART:20240310T070000
END:DAYLIGHT
BEGIN:STANDARD
TZOFFSETFROM:-0400
TZOFFSETTO:-0500
TZNAME:EST
DTSTART:20241103T060000
END:STANDARD
BEGIN:DAYLIGHT
TZOFFSETFROM:-0500
TZOFFSETTO:-0400
TZNAME:EDT
DTSTART:20250309T070000
END:DAYLIGHT
BEGIN:STANDARD
TZOFFSETFROM:-0400
TZOFFSETTO:-0500
TZNAME:EST
DTSTART:20251102T060000
END:STANDARD
BEGIN:DAYLIGHT
TZOFFSETFROM:-0500
TZOFFSETTO:-0400
TZNAME:EDT
DTSTART:20260308T070000
END:DAYLIGHT
BEGIN:STANDARD
TZOFFSETFROM:-0400
TZOFFSETTO:-0500
TZNAME:EST
DTSTART:20261101T060000
END:STANDARD
END:VTIMEZONE
BEGIN:VEVENT
DTSTART;TZID=America/New_York:20250212T190000
DTEND;TZID=America/New_York:20250212T200000
DTSTAMP:20260419T224124
CREATED:20241218T183133Z
LAST-MODIFIED:20250117T141635Z
UID:8515-1739386800-1739390400@dlia.org
SUMMARY:Conservation on Tap
DESCRIPTION:CONSERVATION ON TAP \n\n\n\nProtecting Critical Tennessee Lands \n\n\n\nWednesday\, February 12\, 7:00 p.m. \n\n\n\nAlbright Grove Brewing Company\, Knoxville \n\n\n\nFree! \n\n\n\nJoin TennGreen Executive Director Alice H. Pell and others to learn about this thriving conservation organization’s current and future Tennessee conservation projects. Their recent land acquisitions have included habitat for the endangered Tennessee trillium in Hamblen County\, property on Cardwell Mountain in Warren County\, and portions of the Cumberland Trail. \n\n\n\n Albright Grove Brewing Co. is now serving delicious farm-to-table food! Pizza\, smash burgers\, hot legs\, mushroom Philly\, fish & chips\, and more. \n\n\n\nProceeds benefit TennGreen Land Conservancy and Discover Life in America\, dlia.org.
URL:https://dlia.org/event/conservation-on-tap-1825/
LOCATION:Albright Grove Brewing Company\, 2924 Sutherland Ave\, Knoxville\, Tennessee\, 37919
ATTACH;FMTTYPE=image/png:https://dlia.org/wp-content/uploads/2024/12/COT-Instagram-11.png
END:VEVENT
END:VCALENDAR