BEGIN:VCALENDAR
VERSION:2.0
PRODID:-//Discover Life in America - ECPv6.15.20//NONSGML v1.0//EN
CALSCALE:GREGORIAN
METHOD:PUBLISH
X-WR-CALNAME:Discover Life in America
X-ORIGINAL-URL:https://dlia.org
X-WR-CALDESC:Events for Discover Life in America
REFRESH-INTERVAL;VALUE=DURATION:PT1H
X-Robots-Tag:noindex
X-PUBLISHED-TTL:PT1H
BEGIN:VTIMEZONE
TZID:America/New_York
BEGIN:DAYLIGHT
TZOFFSETFROM:-0500
TZOFFSETTO:-0400
TZNAME:EDT
DTSTART:20240310T070000
END:DAYLIGHT
BEGIN:STANDARD
TZOFFSETFROM:-0400
TZOFFSETTO:-0500
TZNAME:EST
DTSTART:20241103T060000
END:STANDARD
BEGIN:DAYLIGHT
TZOFFSETFROM:-0500
TZOFFSETTO:-0400
TZNAME:EDT
DTSTART:20250309T070000
END:DAYLIGHT
BEGIN:STANDARD
TZOFFSETFROM:-0400
TZOFFSETTO:-0500
TZNAME:EST
DTSTART:20251102T060000
END:STANDARD
BEGIN:DAYLIGHT
TZOFFSETFROM:-0500
TZOFFSETTO:-0400
TZNAME:EDT
DTSTART:20260308T070000
END:DAYLIGHT
BEGIN:STANDARD
TZOFFSETFROM:-0400
TZOFFSETTO:-0500
TZNAME:EST
DTSTART:20261101T060000
END:STANDARD
END:VTIMEZONE
BEGIN:VEVENT
DTSTART;TZID=America/New_York:20250509T100000
DTEND;TZID=America/New_York:20250509T140000
DTSTAMP:20260419T180250
CREATED:20250304T192309Z
LAST-MODIFIED:20250418T192922Z
UID:8818-1746784800-1746799200@dlia.org
SUMMARY:Fern Foray
DESCRIPTION:Fern Foray \n\n\n\nWhen? Friday\, May 9 from 10 a.m. to 2 p.m. \n\n\n\nWhere? Little River Trailhead\, GSMNP \n\n\n\nDescription: Join us for an exciting journey into the world of ferns in Great Smoky Mountains National Park! UTK Ecology and Evolutionary Biology lecturer and renowned botany expert\, Dr. Pat Cox\, will share her in-depth knowledge of the park’s diverse fern species. Discover the art of identifying and documenting these fascinating plants as she recounts her experience leading an ambitious team in a park-wide fern foray for the ATBI\, covering every trail in the park!  We will be using the  iNaturalist app\, to take photos and share to the community science platform. No prior experience necessary! \n\n\n\n\n\n\n\n\nRegister\n\n\n\n\n\n\n\n\n\n\n\n\nVolunteer with DLiA \n\n\n\nVolunteers have contributed significantly to the success of the All Taxa Biodiversity Inventory (ATBI) since we began\, through field work\, education and outreach\, and financial support. DLiA could not continue to function without the help of our dedicated volunteers and supporters. Thank you!
URL:https://dlia.org/event/fern-foray/
LOCATION:Tennessee
CATEGORIES:Volunteer
ATTACH;FMTTYPE=image/jpeg:https://dlia.org/wp-content/uploads/2025/03/IMG_2030.jpg
END:VEVENT
BEGIN:VEVENT
DTSTART;TZID=America/New_York:20250516T190000
DTEND;TZID=America/New_York:20250516T220000
DTSTAMP:20260419T180250
CREATED:20250109T180416Z
LAST-MODIFIED:20250109T181055Z
UID:8552-1747422000-1747432800@dlia.org
SUMMARY:Little Cedar Mountain BioBlitz
DESCRIPTION:Free\, family friendly opportunity to learn about local animals and plants while contributing to science. Join Discover Life in America and the Tennessee Valley Authority at Little Cedar Mountain in Jasper\, TN. \n\n\n\nTwo chances to ‘blitz!\n\n\n\nFriday\, May 16\, 7pm to 10pm Central: Join us for an evening of discoveries…we will continue in the dark\, as we will set up a black light to monitor insect populations! \n\n\n\nSaturday\, May 17\, 8am to 11am Central: The morning is a great time to look for birds and we will continue to look for other flora and fauna throughout the morning! \n\n\n\n\nREGISTER HERE\n\n\n\n\nWhere? \n\n\n\nTVA’s Little Cedar Mountain Trail in Jasper\, TN \n\n\n\n\n\n\n\nWhat’s a bioblitz? \n\n\n\nDuring a bioblitz\, volunteers help document as many kinds of animals\, plants\, and other organisms as we can find in a specific area. It’s also an opportunity for you to be a community scientist\, gathering real scientific data\, while also learning about the local flora and fauna living around you. We will be walking the trails\, looking for bugs\, flowers\, salamanders\, and other living organisms. We’ll photograph them with our phones and post pictures to our iNaturalist project. We’ll have experts on hand to guide small groups point out interesting facts about the organisms we see\, and teach you how to use the iNaturalist app. \n\n\n\n\n\n\n\n\n\n\n\n\n\n\n\n\n\nWhat will we be doing?\n\n\n\nWalking the trails\, looking for bugs\, flowers\, salamanders\, and anything else we can find. We’ll photograph them with our phones and post pictures to our iNaturalist project. It’ll be a fun morning of outdoor time in a gorgeous natural space and we’ll have experts on hand to guide small groups around the trail and point out interesting facts about the organisms we see. \n\n\n\nAfterward you can see what kind of organisms we found by visiting the project on iNaturalist\, which will be left up indefinitely. We encourage you to revisit the Loyston Point trails and post what you find! Making iNaturalist observations helps TVA know what’s out there so they can better manage and protect these public lands. \n\n\n\nBefore the event\n\n\n\n\nDownload iNaturalist to your phone (it’s free!)\n\n\n\nFollow prompts in the app to create an iNaturalist account\n\n\n\nBring water and some snacks (we’ll also provide water)\n\n\n\nWear weather-appropriate clothing and sturdy shoes for hiking\n\n\n\n\n\nGet the iNaturalist app.\n\n\n\nDownload the app. Log in. Try it out. \n\n\n\n\nANDROID\n\n\n\niOS
URL:https://dlia.org/event/little-cedar-mtn-1/
LOCATION:Tennessee
CATEGORIES:Bioblitz,Education,Fun,Kid Friendly
ATTACH;FMTTYPE=image/png:https://dlia.org/wp-content/uploads/2023/12/Copy-of-What-is-a-Bioblitz-2.png
END:VEVENT
BEGIN:VEVENT
DTSTART;TZID=America/New_York:20250517T080000
DTEND;TZID=America/New_York:20250517T110000
DTSTAMP:20260419T180250
CREATED:20250109T181037Z
LAST-MODIFIED:20250109T191217Z
UID:8557-1747468800-1747479600@dlia.org
SUMMARY:Little Cedar Mountain BioBlitz
DESCRIPTION:Free\, family friendly opportunity to learn about local animals and plants while contributing to science. Join Discover Life in America and the Tennessee Valley Authority at Little Cedar Mountain in Jasper\, TN. \n\n\n\nTwo chances to ‘blitz!\n\n\n\nFriday\, May 16\, 7pm to 10pm Central: Join us for an evening of discoveries…we will continue in the dark\, as we will set up a black light to monitor insect populations! \n\n\n\nSaturday\, May 17\, 8am to 11am Central: The morning is a great time to look for birds and we will continue to look for other flora and fauna throughout the morning! \n\n\n\n\nREGISTER HERE\n\n\n\n\nWhere? \n\n\n\nTVA’s Little Cedar Mountain Trail in Jasper\, TN \n\n\n\n\n\n\n\nWhat’s a bioblitz? \n\n\n\nDuring a bioblitz\, volunteers help document as many kinds of animals\, plants\, and other organisms as we can find in a specific area. It’s also an opportunity for you to be a community scientist\, gathering real scientific data\, while also learning about the local flora and fauna living around you. We will be walking the trails\, looking for bugs\, flowers\, salamanders\, and other living organisms. We’ll photograph them with our phones and post pictures to our iNaturalist project. We’ll have experts on hand to guide small groups point out interesting facts about the organisms we see\, and teach you how to use the iNaturalist app. \n\n\n\n\n\n\n\n\n\n\n\n\n\n\n\n\n\nWhat will we be doing?\n\n\n\nWalking the trails\, looking for bugs\, flowers\, salamanders\, and anything else we can find. We’ll photograph them with our phones and post pictures to our iNaturalist project. It’ll be a fun morning of outdoor time in a gorgeous natural space and we’ll have experts on hand to guide small groups around the trail and point out interesting facts about the organisms we see. \n\n\n\nAfterward you can see what kind of organisms we found by visiting the project on iNaturalist\, which will be left up indefinitely. We encourage you to revisit the Loyston Point trails and post what you find! Making iNaturalist observations helps TVA know what’s out there so they can better manage and protect these public lands. \n\n\n\nBefore the event\n\n\n\n\nDownload iNaturalist to your phone (it’s free!)\n\n\n\nFollow prompts in the app to create an iNaturalist account\n\n\n\nBring water and some snacks (we’ll also provide water)\n\n\n\nWear weather-appropriate clothing and sturdy shoes for hiking\n\n\n\n\n\nGet the iNaturalist app.\n\n\n\nDownload the app. Log in. Try it out. \n\n\n\n\nANDROID\n\n\n\niOS
URL:https://dlia.org/event/little-cedar-mtn-2/
LOCATION:Tennessee
ATTACH;FMTTYPE=image/png:https://dlia.org/wp-content/uploads/2023/12/Copy-of-What-is-a-Bioblitz-2.png
END:VEVENT
BEGIN:VEVENT
DTSTART;TZID=America/New_York:20250521T190000
DTEND;TZID=America/New_York:20250521T200000
DTSTAMP:20260419T180250
CREATED:20250520T175139Z
LAST-MODIFIED:20250520T175142Z
UID:9258-1747854000-1747857600@dlia.org
SUMMARY:Conservation on Tap
DESCRIPTION:Conservation on Tap Wed. May 21 @ 7 p.m. Schulz Bräu Brewing Company \n\n\n\nMuseum of Infinite Outcomeswith Ashlee Mays and Logan Szymanowki \n\n\n\nThe Museum of Infinite Outcomes is an open-air museum of conservation. Through exhibits\, public programs\, and educational opportunities\, the Museum of Infinite Outcomes is shifting the narrative around conservation through the arts. Come learn more about our seasonal exhibits\, upcoming field guide\, and how we can shift our attention to stories that build resilience. \n\n\n\n“If the doors of perception were cleansed every thing would appear to man as it is\, Infinite.”-William Blake \n\n\n\nJoin us to support local conservation efforts and enjoy a wide selection of 20+ beers on-tap (and plenty of nonalcoholic beverages) and some authentic german fare from Schulzes Schnitzel Kitchen! 
URL:https://dlia.org/event/conservation-on-tap-18/
LOCATION:Schulz Bräu Brewing Company\, 126 Bernard Ave\, Knoxville\, Tennessee\, 37917\, United States
END:VEVENT
END:VCALENDAR